BEGIN:VCALENDAR
VERSION:2.0
PRODID:icalendar-ruby
CALSCALE:GREGORIAN
METHOD:PUBLISH
BEGIN:VEVENT
DTSTAMP:20260425T155341Z
UID:91-310462@cabotfellowship.church
DTSTART;VALUE=DATE:20260926
DTEND;VALUE=DATE:20260926
CLASS:PUBLIC
CREATED:20260313T185519
DESCRIPTION:Registration is now open for the Arkansas Baptist Women’s Con
 ference!\n\nThis is one of our most anticipated gatherings of the year\, a
 nd we’re already looking forward to worshiping together with women from 
 across Arkansas on September 26.\n\nGather your friends and make plans to 
 join us!\nDetails &amp\; Registration: absc.org/ABWC
LAST-MODIFIED:20260313T185519
LOCATION:
SUMMARY:Arkansas Baptist Women’s Conference
URL;VALUE=URI:https://www.cabotfellowship.church/events/arkansas-baptist-wo
 men-s-conference/2026-09-26
ATTACH;FILENAME=IMG_2897.jpeg;FMTTYPE=image/jpeg:https://dq5pwpg1q8ru0.clou
 dfront.net/2026/03/13/23/55/19/b48c0ae6-27d3-45d7-8a63-859defc4d32b/IMG_28
 97.jpeg
END:VEVENT
END:VCALENDAR
