BEGIN:VCALENDAR
VERSION:2.0
PRODID:icalendar-ruby
CALSCALE:GREGORIAN
METHOD:PUBLISH
BEGIN:VEVENT
DTSTAMP:20260425T155316Z
UID:90-305964@cabotfellowship.church
DTSTART:20260621T154500Z
DTEND:20260621T170000Z
CLASS:PUBLIC
CREATED:20260310T160643
DESCRIPTION:
LAST-MODIFIED:20260310T160643
LOCATION:
SUMMARY:Father's Day
URL;VALUE=URI:https://www.cabotfellowship.church/events/fathers-day/2026-06
 -21
ATTACH;FILENAME=1.png;FMTTYPE=image/png:https://dq5pwpg1q8ru0.cloudfront.ne
 t/2026/03/10/21/06/43/c819eb14-9acf-435f-aeeb-1cfc243ff61e/1.png
END:VEVENT
END:VCALENDAR
