BEGIN:VCALENDAR
VERSION:2.0
PRODID:icalendar-ruby
CALSCALE:GREGORIAN
METHOD:PUBLISH
BEGIN:VEVENT
DTSTAMP:20260425T144443Z
UID:19-288188@cabotfellowship.church
DTSTART:20260503T210000Z
DTEND:20260503T220000Z
CLASS:PUBLIC
CREATED:20260225T183612
DESCRIPTION:Learn more about Fellowship Baptist Church! We will cover who w
 e are\, what we believe and how you can be part of the amazing things God 
 is doing at Fellowship.\n\nDinner and Childcare are provided at no cost. \
 n\nPlease register below and let us know that you are coming. 
LAST-MODIFIED:20260225T183612
LOCATION:
SUMMARY:Fellowship 101
URL;VALUE=URI:https://www.cabotfellowship.church/events/fellowship-101/2026
 -05-03
ATTACH;FILENAME=IMG_1207.png;FMTTYPE=image/png:https://dq5pwpg1q8ru0.cloudf
 ront.net/2025/07/17/02/23/13/c3448e1b-7eb7-4d75-9f17-a62b97dea0da/IMG_1207
 .png
END:VEVENT
END:VCALENDAR
