BEGIN:VCALENDAR
VERSION:2.0
PRODID:icalendar-ruby
CALSCALE:GREGORIAN
METHOD:PUBLISH
BEGIN:VEVENT
DTSTAMP:20260425T155316Z
UID:93-346180@cabotfellowship.church
DTSTART:20260718T130000Z
DTEND:20260718T150000Z
CLASS:PUBLIC
CREATED:20260407T130838
DESCRIPTION:
LAST-MODIFIED:20260407T130838
LOCATION:Back Building
SUMMARY:Men's Breakfast
URL;VALUE=URI:https://www.cabotfellowship.church/events/mens-breakfast--93/
 2026-07-18
ATTACH;FILENAME=MB-Title.001.jpeg;FMTTYPE=image/jpeg:https://dq5pwpg1q8ru0.
 cloudfront.net/2026/04/07/18/08/38/074b6508-82cc-492a-b544-b90d5c37c886/MB
 -Title.001.jpeg
END:VEVENT
END:VCALENDAR
