BEGIN:VCALENDAR
VERSION:2.0
PRODID:icalendar-ruby
CALSCALE:GREGORIAN
METHOD:PUBLISH
BEGIN:VEVENT
DTSTAMP:20260425T144506Z
UID:89-305963@cabotfellowship.church
DTSTART:20260510T154500Z
DTEND:20260510T170000Z
CLASS:PUBLIC
CREATED:20260310T160213
DESCRIPTION:
LAST-MODIFIED:20260310T160213
LOCATION:
SUMMARY:Mother's Day
URL;VALUE=URI:https://www.cabotfellowship.church/events/mothers-day/2026-05
 -10
ATTACH;FILENAME=1.png;FMTTYPE=image/png:https://dq5pwpg1q8ru0.cloudfront.ne
 t/2026/03/10/21/02/12/903017c6-a9ba-4f81-a23c-70c13c99af30/1.png
END:VEVENT
END:VCALENDAR
