BEGIN:VCALENDAR
VERSION:2.0
PRODID:icalendar-ruby
CALSCALE:GREGORIAN
METHOD:PUBLISH
BEGIN:VEVENT
DTSTAMP:20260423T132959Z
UID:94-348903@cabotfellowship.church
DTSTART:20260424T233000Z
DTEND:20260425T010000Z
CLASS:PUBLIC
CREATED:20260409T094617
DESCRIPTION:
LAST-MODIFIED:20260409T094617
LOCATION:Back building
SUMMARY:Spring into Bunco
URL;VALUE=URI:https://www.cabotfellowship.church/events/spring-into-bunco/2
 026-04-24
ATTACH;FILENAME=bring-into-Bunco-2.png;FMTTYPE=image/png:https://dq5pwpg1q8
 ru0.cloudfront.net/2026/04/09/14/39/48/973ae0ec-0c6e-4cb2-b0de-b59d889da8d
 2/bring-into-Bunco-2.png
END:VEVENT
END:VCALENDAR
