BEGIN:VCALENDAR
VERSION:2.0
PRODID:icalendar-ruby
CALSCALE:GREGORIAN
METHOD:PUBLISH
BEGIN:VEVENT
DTSTAMP:20260425T160236Z
UID:92-336521@cabotfellowship.church
DTSTART;VALUE=DATE:20260713
DTEND;VALUE=DATE:20260717
CLASS:PUBLIC
CREATED:20260331T210632
DESCRIPTION:Church Camp 2026\nJuly 13–17 | Camp Siloam | Siloam Springs\,
  AR\nWe’re headed to camp this summer\, and we’d love for your student
  to join us!\nWho: Students who have completed 6th grade and up\nWhen: Jul
 y 13–17\, 2026\nWhere: Camp Siloam\, Siloam Springs\, AR\nGuest Speaker:
  Chris Lovell\nCost:\n\n\nCampers: $369\n\n\nCounselors: $210\n\n\nA depos
 it has already been made to secure our spot. The remaining balance is due 
 by June 10th.\nMore details including theme and parent meeting(s) info wil
 l be shared as we get closer. Stay tuned!
LAST-MODIFIED:20260331T210632
LOCATION:Camp Siloam - Siloam Springs\, AR
SUMMARY:Student Camp
URL;VALUE=URI:https://www.cabotfellowship.church/events/student-camp--92/20
 26-07-13
ATTACH;FILENAME=IMG_1254.jpg;FMTTYPE=image/jpeg:https://dq5pwpg1q8ru0.cloud
 front.net/2026/04/01/02/06/32/f5718aba-20b1-4d69-93fa-707de50aaccc/IMG_125
 4.jpg
END:VEVENT
END:VCALENDAR
